Package: glmGamPoi Version: 1.19.4 Command: /Library/Frameworks/R.framework/Resources/bin/R CMD check --install=check:glmGamPoi.install-out.txt --library=/Library/Frameworks/R.framework/Resources/library --no-vignettes --timings glmGamPoi_1.19.4.tar.gz StartedAt: 2025-02-12 19:32:51 -0500 (Wed, 12 Feb 2025) EndedAt: 2025-02-12 19:34:05 -0500 (Wed, 12 Feb 2025) EllapsedTime: 73.9 seconds RetCode: 1 Status: ERROR CheckDir: glmGamPoi.Rcheck Warnings: NA