Package: glmGamPoi Version: 1.19.4 Command: /Library/Frameworks/R.framework/Resources/bin/R CMD INSTALL glmGamPoi StartedAt: 2025-02-12 15:05:13 -0500 (Wed, 12 Feb 2025) EndedAt: 2025-02-12 15:05:30 -0500 (Wed, 12 Feb 2025) EllapsedTime: 17.2 seconds RetCode: 0 Status: OK