Package: glmGamPoi Version: 1.19.2 Command: /home/biocbuild/R/R/bin/R CMD INSTALL glmGamPoi StartedAt: 2025-01-29 19:44:19 -0000 (Wed, 29 Jan 2025) EndedAt: 2025-01-29 19:45:48 -0000 (Wed, 29 Jan 2025) EllapsedTime: 88.5 seconds RetCode: 0 Status: OK