Package: glmGamPoi Version: 1.19.2 Command: /home/biocbuild/bbs-3.21-bioc/R/bin/R CMD build --keep-empty-dirs --no-resave-data glmGamPoi StartedAt: 2025-02-09 17:26:40 -0500 (Sun, 09 Feb 2025) EndedAt: 2025-02-09 17:34:13 -0500 (Sun, 09 Feb 2025) EllapsedTime: 452.5 seconds RetCode: 0 Status: OK PackageFile: glmGamPoi_1.19.2.tar.gz PackageFileSize: 2.095 MiB