Package: glmGamPoi Version: 1.19.2 Command: /home/biocbuild/bbs-3.21-bioc/R/bin/R CMD check --install=check:glmGamPoi.install-out.txt --library=/home/biocbuild/bbs-3.21-bioc/R/site-library --timings glmGamPoi_1.19.2.tar.gz StartedAt: 2025-02-09 22:47:27 -0500 (Sun, 09 Feb 2025) EndedAt: 2025-02-09 22:57:17 -0500 (Sun, 09 Feb 2025) EllapsedTime: 589.8 seconds RetCode: 1 Status: ERROR CheckDir: glmGamPoi.Rcheck Warnings: NA