Package: glmSparseNet Version: 1.25.0 Command: rm -rf glmSparseNet.buildbin-libdir && mkdir glmSparseNet.buildbin-libdir && /Users/biocbuild/BBS/utils/build-universal.sh glmSparseNet_1.25.0.tar.gz /Library/Frameworks/R.framework/Resources/bin/R glmSparseNet.buildbin-libdir StartedAt: 2025-02-09 22:16:17 -0500 (Sun, 09 Feb 2025) EndedAt: 2025-02-09 22:16:21 -0500 (Sun, 09 Feb 2025) EllapsedTime: 3.1 seconds RetCode: 0 Status: OK PackageFile: glmSparseNet_1.25.0.tgz PackageFileSize: 2.914 MiB