Package: glmSparseNet Version: 1.25.0 Command: E:\biocbuild\bbs-3.21-bioc\R\bin\R.exe CMD check --no-multiarch --install=check:glmSparseNet.install-out.txt --library=E:\biocbuild\bbs-3.21-bioc\R\library --no-vignettes --timings glmSparseNet_1.25.0.tar.gz StartedAt: 2025-02-10 01:37:20 -0500 (Mon, 10 Feb 2025) EndedAt: 2025-02-10 01:39:36 -0500 (Mon, 10 Feb 2025) EllapsedTime: 135.9 seconds RetCode: 0 Status: OK CheckDir: glmSparseNet.Rcheck Warnings: 0