Package: globalSeq Version: 1.35.0 Command: /Library/Frameworks/R.framework/Resources/bin/R CMD check --install=check:globalSeq.install-out.txt --library=/Library/Frameworks/R.framework/Resources/library --no-vignettes --timings globalSeq_1.35.0.tar.gz StartedAt: 2025-02-09 19:28:55 -0500 (Sun, 09 Feb 2025) EndedAt: 2025-02-09 19:29:14 -0500 (Sun, 09 Feb 2025) EllapsedTime: 19.2 seconds RetCode: 0 Status: OK CheckDir: globalSeq.Rcheck Warnings: 0