Package: globalSeq Version: 1.35.0 Command: /Library/Frameworks/R.framework/Resources/bin/R CMD check --install=check:globalSeq.install-out.txt --library=/Library/Frameworks/R.framework/Resources/library --no-vignettes --timings globalSeq_1.35.0.tar.gz StartedAt: 2025-02-09 21:03:56 -0500 (Sun, 09 Feb 2025) EndedAt: 2025-02-09 21:04:47 -0500 (Sun, 09 Feb 2025) EllapsedTime: 50.9 seconds RetCode: 0 Status: OK CheckDir: globalSeq.Rcheck Warnings: 0