Package: globaltest Version: 5.61.0 Command: /Library/Frameworks/R.framework/Resources/bin/R CMD build --keep-empty-dirs --no-resave-data globaltest StartedAt: 2025-02-09 16:29:06 -0500 (Sun, 09 Feb 2025) EndedAt: 2025-02-09 17:09:06 -0500 (Sun, 09 Feb 2025) EllapsedTime: 2400.2 seconds RetCode: None Status: TIMEOUT PackageFile: None PackageFileSize: NA