Package: globaltest Version: 5.61.0 Command: /Library/Frameworks/R.framework/Resources/bin/R CMD INSTALL globaltest StartedAt: 2025-02-09 15:21:46 -0500 (Sun, 09 Feb 2025) EndedAt: 2025-02-09 15:21:55 -0500 (Sun, 09 Feb 2025) EllapsedTime: 8.2 seconds RetCode: 0 Status: OK