Package: globaltest Version: 5.61.0 Command: /home/biocbuild/R/R/bin/R CMD check --install=check:globaltest.install-out.txt --library=/home/biocbuild/R/R/site-library --no-vignettes --timings globaltest_5.61.0.tar.gz StartedAt: 2025-01-28 11:09:33 -0000 (Tue, 28 Jan 2025) EndedAt: 2025-01-28 11:12:13 -0000 (Tue, 28 Jan 2025) EllapsedTime: 160.1 seconds RetCode: 0 Status: OK CheckDir: globaltest.Rcheck Warnings: 0