Package: globaltest Version: 5.61.0 Command: /home/biocbuild/R/R/bin/R CMD INSTALL globaltest StartedAt: 2025-01-29 20:20:37 -0000 (Wed, 29 Jan 2025) EndedAt: 2025-01-29 20:21:08 -0000 (Wed, 29 Jan 2025) EllapsedTime: 30.9 seconds RetCode: 0 Status: OK