Package: globaltest Version: 5.61.0 Command: rm -rf globaltest.buildbin-libdir && mkdir globaltest.buildbin-libdir && /Users/biocbuild/BBS/utils/build-universal.sh globaltest_5.61.0.tar.gz /Library/Frameworks/R.framework/Resources/bin/R globaltest.buildbin-libdir StartedAt: 2025-02-05 00:42:32 -0500 (Wed, 05 Feb 2025) EndedAt: 2025-02-05 00:43:07 -0500 (Wed, 05 Feb 2025) EllapsedTime: 34.5 seconds RetCode: 0 Status: OK PackageFile: globaltest_5.61.0.tgz PackageFileSize: 1.123 MiB