Package: globaltest Version: 5.61.0 Command: /Library/Frameworks/R.framework/Resources/bin/R CMD check --install=check:globaltest.install-out.txt --library=/Library/Frameworks/R.framework/Resources/library --no-vignettes --timings globaltest_5.61.0.tar.gz StartedAt: 2025-02-04 20:50:13 -0500 (Tue, 04 Feb 2025) EndedAt: 2025-02-04 20:52:30 -0500 (Tue, 04 Feb 2025) EllapsedTime: 137.2 seconds RetCode: 0 Status: OK CheckDir: globaltest.Rcheck Warnings: 0