Package: globaltest Version: 5.61.0 Command: /home/biocbuild/bbs-3.21-bioc/R/bin/R CMD build --keep-empty-dirs --no-resave-data globaltest StartedAt: 2025-02-04 17:24:56 -0500 (Tue, 04 Feb 2025) EndedAt: 2025-02-04 17:28:34 -0500 (Tue, 04 Feb 2025) EllapsedTime: 217.2 seconds RetCode: 0 Status: OK PackageFile: globaltest_5.61.0.tar.gz PackageFileSize: 558.3 KiB