Package: globaltest Version: 5.61.0 Command: rm -rf globaltest.buildbin-libdir && mkdir globaltest.buildbin-libdir && E:\biocbuild\bbs-3.21-bioc\R\bin\R.exe CMD INSTALL --build --library=globaltest.buildbin-libdir globaltest_5.61.0.tar.gz StartedAt: 2025-02-05 08:03:36 -0500 (Wed, 05 Feb 2025) EndedAt: 2025-02-05 08:05:03 -0500 (Wed, 05 Feb 2025) EllapsedTime: 87.2 seconds RetCode: 0 Status: OK PackageFile: globaltest_5.61.0.zip PackageFileSize: 1.128 MiB