Package: globaltest Version: 5.61.0 Command: E:\biocbuild\bbs-3.21-bioc\R\bin\R.exe CMD INSTALL globaltest StartedAt: 2025-02-04 16:33:54 -0500 (Tue, 04 Feb 2025) EndedAt: 2025-02-04 16:34:54 -0500 (Tue, 04 Feb 2025) EllapsedTime: 60.7 seconds RetCode: 0 Status: OK