Package: goSorensen Version: 1.9.0 Command: /Library/Frameworks/R.framework/Resources/bin/R CMD check --install=check:goSorensen.install-out.txt --library=/Library/Frameworks/R.framework/Resources/library --no-vignettes --timings goSorensen_1.9.0.tar.gz StartedAt: 2025-02-09 19:31:11 -0500 (Sun, 09 Feb 2025) EndedAt: 2025-02-09 19:35:48 -0500 (Sun, 09 Feb 2025) EllapsedTime: 277.4 seconds RetCode: 0 Status: OK CheckDir: goSorensen.Rcheck Warnings: 0