Package: goSorensen Version: 1.9.0 Command: /home/biocbuild/R/R/bin/R CMD check --install=check:goSorensen.install-out.txt --library=/home/biocbuild/R/R/site-library --no-vignettes --timings goSorensen_1.9.0.tar.gz StartedAt: 2025-01-28 11:13:29 -0000 (Tue, 28 Jan 2025) EndedAt: 2025-01-28 11:29:56 -0000 (Tue, 28 Jan 2025) EllapsedTime: 986.9 seconds RetCode: 0 Status: OK CheckDir: goSorensen.Rcheck Warnings: 0