Package: goSorensen Version: 1.9.0 Command: /home/biocbuild/R/R/bin/R CMD INSTALL goSorensen StartedAt: 2025-01-29 20:18:51 -0000 (Wed, 29 Jan 2025) EndedAt: 2025-01-29 20:19:11 -0000 (Wed, 29 Jan 2025) EllapsedTime: 19.7 seconds RetCode: 0 Status: OK