Package: goSorensen Version: 1.9.0 Command: /Library/Frameworks/R.framework/Resources/bin/R CMD build --keep-empty-dirs --no-resave-data goSorensen StartedAt: 2025-02-09 16:57:08 -0500 (Sun, 09 Feb 2025) EndedAt: 2025-02-09 17:11:40 -0500 (Sun, 09 Feb 2025) EllapsedTime: 871.5 seconds RetCode: 0 Status: OK PackageFile: goSorensen_1.9.0.tar.gz PackageFileSize: 1.501 MiB