Package: goSorensen Version: 1.9.0 Command: /Library/Frameworks/R.framework/Resources/bin/R CMD check --install=check:goSorensen.install-out.txt --library=/Library/Frameworks/R.framework/Resources/library --no-vignettes --timings goSorensen_1.9.0.tar.gz StartedAt: 2025-02-09 21:06:15 -0500 (Sun, 09 Feb 2025) EndedAt: 2025-02-09 21:19:48 -0500 (Sun, 09 Feb 2025) EllapsedTime: 813.1 seconds RetCode: 0 Status: OK CheckDir: goSorensen.Rcheck Warnings: 0