Package: goSorensen Version: 1.9.0 Command: /home/biocbuild/bbs-3.21-bioc/R/bin/R CMD build --keep-empty-dirs --no-resave-data goSorensen StartedAt: 2025-02-12 17:26:34 -0500 (Wed, 12 Feb 2025) EndedAt: 2025-02-12 17:36:55 -0500 (Wed, 12 Feb 2025) EllapsedTime: 621.3 seconds RetCode: 0 Status: OK PackageFile: goSorensen_1.9.0.tar.gz PackageFileSize: 1.537 MiB