Package: goSorensen Version: 1.9.0 Command: /home/biocbuild/bbs-3.21-bioc/R/bin/R CMD INSTALL goSorensen StartedAt: 2025-02-09 15:47:38 -0500 (Sun, 09 Feb 2025) EndedAt: 2025-02-09 15:47:52 -0500 (Sun, 09 Feb 2025) EllapsedTime: 14.7 seconds RetCode: 0 Status: OK