Package: goSorensen Version: 1.9.0 Command: chmod a+r goSorensen -R && E:\biocbuild\bbs-3.21-bioc\R\bin\R.exe CMD build --keep-empty-dirs --no-resave-data goSorensen StartedAt: 2025-02-09 19:03:27 -0500 (Sun, 09 Feb 2025) EndedAt: 2025-02-09 19:16:54 -0500 (Sun, 09 Feb 2025) EllapsedTime: 806.6 seconds RetCode: 0 Status: OK PackageFile: goSorensen_1.9.0.tar.gz PackageFileSize: 1.43 MiB