Package: goSorensen Version: 1.9.0 Command: E:\biocbuild\bbs-3.21-bioc\R\bin\R.exe CMD check --no-multiarch --install=check:goSorensen.install-out.txt --library=E:\biocbuild\bbs-3.21-bioc\R\library --no-vignettes --timings goSorensen_1.9.0.tar.gz StartedAt: 2025-02-13 01:51:18 -0500 (Thu, 13 Feb 2025) EndedAt: 2025-02-13 02:05:27 -0500 (Thu, 13 Feb 2025) EllapsedTime: 849.0 seconds RetCode: 0 Status: OK CheckDir: goSorensen.Rcheck Warnings: 0