Package: goTools Version: 1.81.0 Command: rm -rf goTools.buildbin-libdir && mkdir goTools.buildbin-libdir && /Users/biocbuild/BBS/utils/build-universal.sh goTools_1.81.0.tar.gz /Library/Frameworks/R.framework/Resources/bin/R goTools.buildbin-libdir StartedAt: 2025-02-13 00:39:38 -0500 (Thu, 13 Feb 2025) EndedAt: 2025-02-13 00:39:58 -0500 (Thu, 13 Feb 2025) EllapsedTime: 19.7 seconds RetCode: 0 Status: OK PackageFile: goTools_1.81.0.tgz PackageFileSize: 260.5 KiB