Package: goTools Version: 1.81.0 Command: /home/biocbuild/bbs-3.21-bioc/R/bin/R CMD build --keep-empty-dirs --no-resave-data goTools StartedAt: 2025-02-09 17:30:02 -0500 (Sun, 09 Feb 2025) EndedAt: 2025-02-09 17:30:21 -0500 (Sun, 09 Feb 2025) EllapsedTime: 19.0 seconds RetCode: 0 Status: OK PackageFile: goTools_1.81.0.tar.gz PackageFileSize: 241.7 KiB