Package: goTools Version: 1.81.0 Command: /home/biocbuild/bbs-3.21-bioc/R/bin/R CMD INSTALL goTools StartedAt: 2025-02-12 15:40:37 -0500 (Wed, 12 Feb 2025) EndedAt: 2025-02-12 15:40:50 -0500 (Wed, 12 Feb 2025) EllapsedTime: 12.5 seconds RetCode: 0 Status: OK