Package: goTools Version: 1.81.0 Command: chmod a+r goTools -R && E:\biocbuild\bbs-3.21-bioc\R\bin\R.exe CMD build --keep-empty-dirs --no-resave-data goTools StartedAt: 2025-02-09 19:03:40 -0500 (Sun, 09 Feb 2025) EndedAt: 2025-02-09 19:04:09 -0500 (Sun, 09 Feb 2025) EllapsedTime: 28.9 seconds RetCode: 0 Status: OK PackageFile: goTools_1.81.0.tar.gz PackageFileSize: 105.1 KiB