Package: goTools Version: 1.81.0 Command: E:\biocbuild\bbs-3.21-bioc\R\bin\R.exe CMD check --no-multiarch --install=check:goTools.install-out.txt --library=E:\biocbuild\bbs-3.21-bioc\R\library --no-vignettes --timings goTools_1.81.0.tar.gz StartedAt: 2025-02-10 01:41:57 -0500 (Mon, 10 Feb 2025) EndedAt: 2025-02-10 01:43:57 -0500 (Mon, 10 Feb 2025) EllapsedTime: 119.8 seconds RetCode: 0 Status: OK CheckDir: goTools.Rcheck Warnings: 0