Package: gpls Version: 1.79.0 Command: /home/biocbuild/R/R/bin/R CMD INSTALL gpls StartedAt: 2025-01-29 19:29:46 -0000 (Wed, 29 Jan 2025) EndedAt: 2025-01-29 19:29:58 -0000 (Wed, 29 Jan 2025) EllapsedTime: 11.8 seconds RetCode: 0 Status: OK