Package: gpls Version: 1.79.0 Command: rm -rf gpls.buildbin-libdir && mkdir gpls.buildbin-libdir && /Users/biocbuild/BBS/utils/build-universal.sh gpls_1.79.0.tar.gz /Library/Frameworks/R.framework/Resources/bin/R gpls.buildbin-libdir StartedAt: 2025-02-04 00:37:09 -0500 (Tue, 04 Feb 2025) EndedAt: 2025-02-04 00:37:15 -0500 (Tue, 04 Feb 2025) EllapsedTime: 5.8 seconds RetCode: 0 Status: OK PackageFile: gpls_1.79.0.tgz PackageFileSize: 295.1 KiB