Package: gpls Version: 1.79.0 Command: /Library/Frameworks/R.framework/Resources/bin/R CMD check --install=check:gpls.install-out.txt --library=/Library/Frameworks/R.framework/Resources/library --no-vignettes --timings gpls_1.79.0.tar.gz StartedAt: 2025-02-09 21:06:58 -0500 (Sun, 09 Feb 2025) EndedAt: 2025-02-09 21:07:26 -0500 (Sun, 09 Feb 2025) EllapsedTime: 28.6 seconds RetCode: 0 Status: WARNINGS CheckDir: gpls.Rcheck Warnings: 1