Package: gpls Version: 1.79.0 Command: /Library/Frameworks/R.framework/Resources/bin/R CMD INSTALL gpls StartedAt: 2025-02-03 15:08:38 -0500 (Mon, 03 Feb 2025) EndedAt: 2025-02-03 15:08:58 -0500 (Mon, 03 Feb 2025) EllapsedTime: 20.3 seconds RetCode: 0 Status: OK