Package: gpls Version: 1.79.0 Command: /home/biocbuild/bbs-3.21-bioc/R/bin/R CMD build --keep-empty-dirs --no-resave-data gpls StartedAt: 2025-02-03 17:38:53 -0500 (Mon, 03 Feb 2025) EndedAt: 2025-02-03 17:39:02 -0500 (Mon, 03 Feb 2025) EllapsedTime: 9.0 seconds RetCode: 0 Status: OK PackageFile: gpls_1.79.0.tar.gz PackageFileSize: 233.2 KiB