Package: gpls Version: 1.79.0 Command: /home/biocbuild/bbs-3.21-bioc/R/bin/R CMD INSTALL gpls StartedAt: 2025-02-03 15:12:00 -0500 (Mon, 03 Feb 2025) EndedAt: 2025-02-03 15:12:02 -0500 (Mon, 03 Feb 2025) EllapsedTime: 2.2 seconds RetCode: 0 Status: OK