Package: gpls Version: 1.79.0 Command: chmod a+r gpls -R && E:\biocbuild\bbs-3.21-bioc\R\bin\R.exe CMD build --keep-empty-dirs --no-resave-data gpls StartedAt: 2025-02-04 19:06:29 -0500 (Tue, 04 Feb 2025) EndedAt: 2025-02-04 19:06:48 -0500 (Tue, 04 Feb 2025) EllapsedTime: 19.0 seconds RetCode: 0 Status: OK PackageFile: gpls_1.79.0.tar.gz PackageFileSize: 103.1 KiB