Package: gpls Version: 1.79.0 Command: E:\biocbuild\bbs-3.21-bioc\R\bin\R.exe CMD check --no-multiarch --install=check:gpls.install-out.txt --library=E:\biocbuild\bbs-3.21-bioc\R\library --no-vignettes --timings gpls_1.79.0.tar.gz StartedAt: 2025-02-05 02:09:26 -0500 (Wed, 05 Feb 2025) EndedAt: 2025-02-05 02:10:07 -0500 (Wed, 05 Feb 2025) EllapsedTime: 40.6 seconds RetCode: 0 Status: WARNINGS CheckDir: gpls.Rcheck Warnings: 1