Package: graper Version: 1.23.0 Command: /Library/Frameworks/R.framework/Resources/bin/R CMD build --keep-empty-dirs --no-resave-data graper StartedAt: 2025-02-09 16:32:08 -0500 (Sun, 09 Feb 2025) EndedAt: 2025-02-09 16:32:13 -0500 (Sun, 09 Feb 2025) EllapsedTime: 4.1 seconds RetCode: 1 Status: ERROR PackageFile: None PackageFileSize: NA