Package: graper Version: 1.23.0 Command: /Library/Frameworks/R.framework/Resources/bin/R CMD build --keep-empty-dirs --no-resave-data graper StartedAt: 2025-02-04 16:54:21 -0500 (Tue, 04 Feb 2025) EndedAt: 2025-02-04 16:54:32 -0500 (Tue, 04 Feb 2025) EllapsedTime: 11.4 seconds RetCode: 1 Status: ERROR PackageFile: None PackageFileSize: NA