Package: graper Version: 1.23.0 Command: /Library/Frameworks/R.framework/Resources/bin/R CMD INSTALL graper StartedAt: 2025-02-04 15:08:58 -0500 (Tue, 04 Feb 2025) EndedAt: 2025-02-04 15:09:16 -0500 (Tue, 04 Feb 2025) EllapsedTime: 17.5 seconds RetCode: 1 Status: ERROR