Package: graper Version: 1.23.0 Command: /home/biocbuild/bbs-3.21-bioc/R/bin/R CMD INSTALL graper StartedAt: 2025-02-04 15:07:13 -0500 (Tue, 04 Feb 2025) EndedAt: 2025-02-04 15:07:28 -0500 (Tue, 04 Feb 2025) EllapsedTime: 14.6 seconds RetCode: 1 Status: ERROR