Package: graper Version: 1.23.0 Command: E:\biocbuild\bbs-3.21-bioc\R\bin\R.exe CMD check --no-multiarch --install=check:graper.install-out.txt --library=E:\biocbuild\bbs-3.21-bioc\R\library --no-vignettes --timings graper_1.23.0.tar.gz StartedAt: 2024-12-17 01:24:26 -0500 (Tue, 17 Dec 2024) EndedAt: 2024-12-17 01:25:55 -0500 (Tue, 17 Dec 2024) EllapsedTime: 88.8 seconds RetCode: 0 Status: OK CheckDir: graper.Rcheck Warnings: 0