Package: graper Version: 1.23.0 Command: E:\biocbuild\bbs-3.21-bioc\R\bin\R.exe CMD INSTALL graper StartedAt: 2025-02-09 15:32:20 -0500 (Sun, 09 Feb 2025) EndedAt: 2025-02-09 15:32:57 -0500 (Sun, 09 Feb 2025) EllapsedTime: 36.6 seconds RetCode: 1 Status: ERROR