Package: graph Version: 1.85.1 Command: /home/biocbuild/R/R/bin/R CMD build --keep-empty-dirs --no-resave-data graph StartedAt: 2025-01-28 23:21:38 -0000 (Tue, 28 Jan 2025) EndedAt: 2025-01-28 23:22:23 -0000 (Tue, 28 Jan 2025) EllapsedTime: 45.0 seconds RetCode: 0 Status: OK PackageFile: graph_1.85.1.tar.gz PackageFileSize: 1.514 MiB