Package: graph Version: 1.85.1 Command: /home/biocbuild/R/R/bin/R CMD INSTALL graph StartedAt: 2025-01-29 19:32:20 -0000 (Wed, 29 Jan 2025) EndedAt: 2025-01-29 19:32:48 -0000 (Wed, 29 Jan 2025) EllapsedTime: 28.0 seconds RetCode: 0 Status: OK