Package: graph Version: 1.85.1 Command: rm -rf graph.buildbin-libdir && mkdir graph.buildbin-libdir && /Users/biocbuild/BBS/utils/build-universal.sh graph_1.85.1.tar.gz /Library/Frameworks/R.framework/Resources/bin/R graph.buildbin-libdir StartedAt: 2025-02-10 00:56:40 -0500 (Mon, 10 Feb 2025) EndedAt: 2025-02-10 00:57:03 -0500 (Mon, 10 Feb 2025) EllapsedTime: 23.2 seconds RetCode: 0 Status: OK PackageFile: graph_1.85.1.tgz PackageFileSize: 2.102 MiB