Package: graph Version: 1.85.1 Command: /Library/Frameworks/R.framework/Resources/bin/R CMD build --keep-empty-dirs --no-resave-data graph StartedAt: 2025-02-09 16:57:59 -0500 (Sun, 09 Feb 2025) EndedAt: 2025-02-09 16:58:43 -0500 (Sun, 09 Feb 2025) EllapsedTime: 43.3 seconds RetCode: 0 Status: OK PackageFile: graph_1.85.1.tar.gz PackageFileSize: 1.435 MiB